BEGIN:VCALENDAR
VERSION:2.0
PRODID:-//Orgue des Saints-François - Montpellier - ECPv6.15.20//NONSGML v1.0//EN
CALSCALE:GREGORIAN
METHOD:PUBLISH
X-ORIGINAL-URL:https://www.orguesaintsfrancois.fr
X-WR-CALDESC:Évènements pour Orgue des Saints-François - Montpellier
REFRESH-INTERVAL;VALUE=DURATION:PT1H
X-Robots-Tag:noindex
X-PUBLISHED-TTL:PT1H
BEGIN:VTIMEZONE
TZID:Europe/Paris
BEGIN:DAYLIGHT
TZOFFSETFROM:+0100
TZOFFSETTO:+0200
TZNAME:CEST
DTSTART:20240331T010000
END:DAYLIGHT
BEGIN:STANDARD
TZOFFSETFROM:+0200
TZOFFSETTO:+0100
TZNAME:CET
DTSTART:20241027T010000
END:STANDARD
BEGIN:DAYLIGHT
TZOFFSETFROM:+0100
TZOFFSETTO:+0200
TZNAME:CEST
DTSTART:20250330T010000
END:DAYLIGHT
BEGIN:STANDARD
TZOFFSETFROM:+0200
TZOFFSETTO:+0100
TZNAME:CET
DTSTART:20251026T010000
END:STANDARD
BEGIN:DAYLIGHT
TZOFFSETFROM:+0100
TZOFFSETTO:+0200
TZNAME:CEST
DTSTART:20260329T010000
END:DAYLIGHT
BEGIN:STANDARD
TZOFFSETFROM:+0200
TZOFFSETTO:+0100
TZNAME:CET
DTSTART:20261025T010000
END:STANDARD
END:VTIMEZONE
BEGIN:VEVENT
DTSTART;TZID=Europe/Paris:20251026T180000
DTEND;TZID=Europe/Paris:20251026T200000
DTSTAMP:20260419T201202
CREATED:20241010T125949Z
LAST-MODIFIED:20250315T111527Z
UID:4050-1761501600-1761508800@www.orguesaintsfrancois.fr
SUMMARY:Musiques de films
DESCRIPTION:Suite à l’incendie des Saints-François\, ce concert aura lieu au temple de la rue Maguelone. \nUn nouveau programme interprété par Stéphane Eliot à l’orgue
URL:https://www.orguesaintsfrancois.fr/event/musiques-de-films/
LOCATION:Temple de la rue Maguelone\, 25 rue Maguelone\, Montpellier\, 34000\, France
ATTACH;FMTTYPE=image/jpeg:https://www.orguesaintsfrancois.fr/wp-content/uploads/2022/12/Syephane-Eliot.jpg
END:VEVENT
END:VCALENDAR