BEGIN:VCALENDAR
VERSION:2.0
PRODID:-//Orgue des Saints-François - Montpellier - ECPv6.15.20//NONSGML v1.0//EN
CALSCALE:GREGORIAN
METHOD:PUBLISH
X-WR-CALNAME:Orgue des Saints-François - Montpellier
X-ORIGINAL-URL:https://www.orguesaintsfrancois.fr
X-WR-CALDESC:Évènements pour Orgue des Saints-François - Montpellier
REFRESH-INTERVAL;VALUE=DURATION:PT1H
X-Robots-Tag:noindex
X-PUBLISHED-TTL:PT1H
BEGIN:VTIMEZONE
TZID:Europe/Paris
BEGIN:DAYLIGHT
TZOFFSETFROM:+0100
TZOFFSETTO:+0200
TZNAME:CEST
DTSTART:20250330T010000
END:DAYLIGHT
BEGIN:STANDARD
TZOFFSETFROM:+0200
TZOFFSETTO:+0100
TZNAME:CET
DTSTART:20251026T010000
END:STANDARD
BEGIN:DAYLIGHT
TZOFFSETFROM:+0100
TZOFFSETTO:+0200
TZNAME:CEST
DTSTART:20260329T010000
END:DAYLIGHT
BEGIN:STANDARD
TZOFFSETFROM:+0200
TZOFFSETTO:+0100
TZNAME:CET
DTSTART:20261025T010000
END:STANDARD
BEGIN:DAYLIGHT
TZOFFSETFROM:+0100
TZOFFSETTO:+0200
TZNAME:CEST
DTSTART:20270328T010000
END:DAYLIGHT
BEGIN:STANDARD
TZOFFSETFROM:+0200
TZOFFSETTO:+0100
TZNAME:CET
DTSTART:20271031T010000
END:STANDARD
END:VTIMEZONE
BEGIN:VEVENT
DTSTART;TZID=Europe/Paris:20260607T160000
DTEND;TZID=Europe/Paris:20260607T180000
DTSTAMP:20260419T142253
CREATED:20260130T184306Z
LAST-MODIFIED:20260130T184431Z
UID:4186-1780848000-1780855200@www.orguesaintsfrancois.fr
SUMMARY:Échos d'Amérique et d'ailleurs
DESCRIPTION:Alice Nardo\, orgue et Gianluca Manoli\, clarinette \nÀ travers un répertoire largement inspiré du XXᵉ siècle\, nous vous invitons à un voyage placé sous le signe de la couleur et du mouvement où l’orgue\, tour à tour majestueux et délicat\, soutient et dialogue avec la clarinette\, offrant au public un voyage musical riche en émotions\, entre musique classique\, jazz et traditions populaires. \nLes atmosphères urbaines de Gershwin y côtoient l’élégance intemporelle de Fauré\, tandis qu’Albéniz et Piazzolla évoquent la danse et la nostalgie des terres du Sud. \nLes mélodies emblématiques d’Arlen et de Bechet apportent une dimension lyrique et intime\, empreinte de douceur et de rêverie tandis que les pages de Denis Bédard\, rythmées et expressives\, insufflent une énergie vivante et contrastée. \nPour en savoir plus sur les musiciens\, cliquez ici \nPour découvrir le programme\, cliquez ici
URL:https://www.orguesaintsfrancois.fr/event/echos-damerique-et-dailleurs/
LOCATION:Église des Dominicains\, 8 rue Fabre\, Montpellier\, France
ATTACH;FMTTYPE=image/jpeg:https://www.orguesaintsfrancois.fr/wp-content/uploads/2026/01/Musiciens-260607.jpeg
END:VEVENT
END:VCALENDAR