BEGIN:VCALENDAR
VERSION:2.0
PRODID:-//Orgue des Saints-François - Montpellier - ECPv6.15.20//NONSGML v1.0//EN
CALSCALE:GREGORIAN
METHOD:PUBLISH
X-ORIGINAL-URL:https://www.orguesaintsfrancois.fr
X-WR-CALDESC:Évènements pour Orgue des Saints-François - Montpellier
REFRESH-INTERVAL;VALUE=DURATION:PT1H
X-Robots-Tag:noindex
X-PUBLISHED-TTL:PT1H
BEGIN:VTIMEZONE
TZID:Europe/Paris
BEGIN:DAYLIGHT
TZOFFSETFROM:+0100
TZOFFSETTO:+0200
TZNAME:CEST
DTSTART:20250330T010000
END:DAYLIGHT
BEGIN:STANDARD
TZOFFSETFROM:+0200
TZOFFSETTO:+0100
TZNAME:CET
DTSTART:20251026T010000
END:STANDARD
BEGIN:DAYLIGHT
TZOFFSETFROM:+0100
TZOFFSETTO:+0200
TZNAME:CEST
DTSTART:20260329T010000
END:DAYLIGHT
BEGIN:STANDARD
TZOFFSETFROM:+0200
TZOFFSETTO:+0100
TZNAME:CET
DTSTART:20261025T010000
END:STANDARD
BEGIN:DAYLIGHT
TZOFFSETFROM:+0100
TZOFFSETTO:+0200
TZNAME:CEST
DTSTART:20270328T010000
END:DAYLIGHT
BEGIN:STANDARD
TZOFFSETFROM:+0200
TZOFFSETTO:+0100
TZNAME:CET
DTSTART:20271031T010000
END:STANDARD
END:VTIMEZONE
BEGIN:VEVENT
DTSTART;TZID=Europe/Paris:20260412T200000
DTEND;TZID=Europe/Paris:20260412T220000
DTSTAMP:20260423T114409
CREATED:20260130T182314Z
LAST-MODIFIED:20260130T182314Z
UID:4179-1776024000-1776031200@www.orguesaintsfrancois.fr
SUMMARY:Ciné Orgue - L'Aurore
DESCRIPTION:L’Aurore\, film de Friedrich Murnau (1927) \nAvec des improvisations à l’orgue par Frédéric Muñoz \n« Un jeune paysan\, influencé par une maîtresse sans cœur mais redoutablement séduisante\, tente de tuer son épouse puis\, déplorant son geste\, cherche à la reconquérir ». \nMurnau réussi à transformer en fresque lyrique un drame conjugal simple comme bonjour. \nLe film est unanimement reconnu comme l’un des chefs-d’œuvre du cinéma muet. Il a obtenu trois prix lors de la première cérémonie des Oscars en 1929 dont l’Oscar de la meilleure production artistique \nFrançois Truffaut a dit de L’Aurore qu’il est « le plus beau film du monde ». \n  \n 
URL:https://www.orguesaintsfrancois.fr/event/cine-orgue-laurore/
LOCATION:Église Notre-Dame de la Paix\, 1 rue du Père Cyprien Rome\, Montpellier\, 34070\, France
ATTACH;FMTTYPE=image/jpeg:https://www.orguesaintsfrancois.fr/wp-content/uploads/2026/01/Image-film-lAurore.jpg
END:VEVENT
END:VCALENDAR