BEGIN:VCALENDAR
VERSION:2.0
PRODID:-//Orgue des Saints-François - Montpellier - ECPv6.15.20//NONSGML v1.0//EN
CALSCALE:GREGORIAN
METHOD:PUBLISH
X-WR-CALNAME:Orgue des Saints-François - Montpellier
X-ORIGINAL-URL:https://www.orguesaintsfrancois.fr
X-WR-CALDESC:Évènements pour Orgue des Saints-François - Montpellier
REFRESH-INTERVAL;VALUE=DURATION:PT1H
X-Robots-Tag:noindex
X-PUBLISHED-TTL:PT1H
BEGIN:VTIMEZONE
TZID:Europe/Paris
BEGIN:DAYLIGHT
TZOFFSETFROM:+0100
TZOFFSETTO:+0200
TZNAME:CEST
DTSTART:20240331T010000
END:DAYLIGHT
BEGIN:STANDARD
TZOFFSETFROM:+0200
TZOFFSETTO:+0100
TZNAME:CET
DTSTART:20241027T010000
END:STANDARD
BEGIN:DAYLIGHT
TZOFFSETFROM:+0100
TZOFFSETTO:+0200
TZNAME:CEST
DTSTART:20250330T010000
END:DAYLIGHT
BEGIN:STANDARD
TZOFFSETFROM:+0200
TZOFFSETTO:+0100
TZNAME:CET
DTSTART:20251026T010000
END:STANDARD
BEGIN:DAYLIGHT
TZOFFSETFROM:+0100
TZOFFSETTO:+0200
TZNAME:CEST
DTSTART:20260329T010000
END:DAYLIGHT
BEGIN:STANDARD
TZOFFSETFROM:+0200
TZOFFSETTO:+0100
TZNAME:CET
DTSTART:20261025T010000
END:STANDARD
END:VTIMEZONE
BEGIN:VEVENT
DTSTART;TZID=Europe/Paris:20250211T200000
DTEND;TZID=Europe/Paris:20250211T220000
DTSTAMP:20260422T222222
CREATED:20241010T125111Z
LAST-MODIFIED:20250204T084526Z
UID:4042-1739304000-1739311200@www.orguesaintsfrancois.fr
SUMMARY:C'est beau l'Hérault - Année Ravel
DESCRIPTION:Attention : changement de lieu du fait de l’incendie de l’église des Saints-François. Le concert aura lieu Salle Molière \n  \n« C’est beau l’Hérault » Année Ravel est proposé en partenariat avec le Festival des instruments Graves. \nIl sera donné le 11 février à 20h00 à la Salle Molière située à l’arrière de l’Opéra Comédie de Montpellier. \nLe programme\, composé d’œuvres de Maurice Ravel\, Claude-Henry Joubert\, Jean Marc Fouché et Bernard Langlois\, sera donné sous la direction de Jacques Mauger par : \n\nFélix Pereira\, trombone\nTiphaine Vigneron\, cor anglais\nBenjamin Fontaine\, clarinette basse\nBlandine Delangle\, basson\nNicolas Rivenq\, voix\nCharles Bonnet\, piano\nBernard Cazauran\, Tom Gélineaud et Mathieu Salas\, contrebasses\nEnsemble de trombones de l’IESM d’Aix-en-Provence\n\nExceptionnellement\, l’entrée sera payante : 10 € pour les adhérents\, 15 € pour les non adhérents. \nLa réservation se fait par le lien : https://mardigraves.org/billetterie/ \nLes adhérents de l’Association des amis de l’orgue des Saints-François peuvent s’inscrire en tant qu’adhérent de Mardi Graves.
URL:https://www.orguesaintsfrancois.fr/event/cest-beau-lherault-annee-ravel/
LOCATION:Salle Molière\, Place Molière\, 11 Boulevard Victor Hugo\, Montpellier\, France
ATTACH;FMTTYPE=image/jpeg:https://www.orguesaintsfrancois.fr/wp-content/uploads/2024/10/Mardi-Graves-01.jpg
END:VEVENT
END:VCALENDAR